BEGIN:VCALENDAR
VERSION:2.0
PRODID:-//Tecnocarrelli srl - ECPv6.15.13.1//NONSGML v1.0//EN
CALSCALE:GREGORIAN
METHOD:PUBLISH
X-ORIGINAL-URL:https://www.tecnocarrelli.com
X-WR-CALDESC:Eventi per Tecnocarrelli srl
REFRESH-INTERVAL;VALUE=DURATION:PT1H
X-Robots-Tag:noindex
X-PUBLISHED-TTL:PT1H
BEGIN:VTIMEZONE
TZID:Europe/Rome
BEGIN:DAYLIGHT
TZOFFSETFROM:+0100
TZOFFSETTO:+0200
TZNAME:CEST
DTSTART:20250330T010000
END:DAYLIGHT
BEGIN:STANDARD
TZOFFSETFROM:+0200
TZOFFSETTO:+0100
TZNAME:CET
DTSTART:20251026T010000
END:STANDARD
BEGIN:DAYLIGHT
TZOFFSETFROM:+0100
TZOFFSETTO:+0200
TZNAME:CEST
DTSTART:20260329T010000
END:DAYLIGHT
BEGIN:STANDARD
TZOFFSETFROM:+0200
TZOFFSETTO:+0100
TZNAME:CET
DTSTART:20261025T010000
END:STANDARD
BEGIN:DAYLIGHT
TZOFFSETFROM:+0100
TZOFFSETTO:+0200
TZNAME:CEST
DTSTART:20270328T010000
END:DAYLIGHT
BEGIN:STANDARD
TZOFFSETFROM:+0200
TZOFFSETTO:+0100
TZNAME:CET
DTSTART:20271031T010000
END:STANDARD
END:VTIMEZONE
BEGIN:VEVENT
DTSTART;TZID=Europe/Rome:20260526T133000
DTEND;TZID=Europe/Rome:20260526T173000
DTSTAMP:20260425T165146
CREATED:20260121T160636Z
LAST-MODIFIED:20260123T075629Z
UID:21026-1779802200-1779816600@www.tecnocarrelli.com
SUMMARY:Corso Lavori in Quota – 26.05.26
DESCRIPTION:Corso di formazione per addetti a lavori in quota				\n				\n				\n				\n									La formazione per i lavori in quota è obbligatoria per legge per tutti i lavoratori che operano ad altezze superiori a quelle consentite senza adeguate protezioni. Il corso è finalizzato a fornire le conoscenze teoriche e pratiche necessarie per svolgere le attività in quota in condizioni di massima sicurezza\, prevenire il rischio di caduta dall’alto e utilizzare correttamente i dispositivi di protezione individuale e le attrezzature previste\, nel rispetto delle normative vigenti in materia di salute e sicurezza sul lavoro. Al termine del percorso formativo\, previo superamento delle prove previste\, viene rilasciato un attestato di formazione valido su tutto il territorio nazionale. 								\n				\n				\n				\n					Dettagli del corso				\n				\n				\n				\n									14 dicembre 2026 – Modulo teorico e praticodalle 13\,30 alle 17\,30 Normativa sulla sicurezza nei lavori in quota (D.Lgs. 81/08)Obblighi e responsabilità di datore di lavoro e lavoratoriDefinizione di lavoro in quota e valutazione del rischio di cadutaTipologie di lavori in quota e principali scenari operativiSistemi di protezione collettiva (parapetti\, reti\, ponteggi)Sistemi di protezione individuale contro le cadute dall’altoDPI di III categoria: imbracature\, cordini\, assorbitori\, connettoriLinee vita e punti di ancoraggioScale portatili: scelta\, utilizzo corretto e limitiAccesso\, posizionamento e lavoro in sicurezzaControlli preliminari e verifica dei DPIProcedure operative corretteRischi specifici: caduta dall’alto\, urti\, sospensione inerteGestione delle emergenze e primo interventoProve pratiche di utilizzo dei DPI e simulazioni operative								\n				\n				\n				\n							\n			\n		\n						\n				\n				\n				\n					Hai qualche domanda?				\n				\n				\n				\n							\n						\n				\n					 Il corso è obbligatorio? \n							\n			\n			\n		\n\n						\n				\n				\n				\n									Sì\, la formazione e l’abilitazione sono obbligatorie per l’uso del carrello elevatore. 								\n				\n				\n					\n						\n				\n					 Dove si svolgono i corsi? \n							\n			\n			\n		\n\n						\n				\n				\n				\n									La teoria e la pratica si svolgono presso la nuova sede di Tecnocarrelli in via del Commercio 6/8\, Pozzo d’Adda (MI). 								\n				\n				\n					\n						\n				\n					 Cosa devo portare il giorno del corso? \n							\n			\n			\n		\n\n						\n				\n				\n				\n									Documento di identità e\, per la parte pratica\, abbigliamento idoneo e DPI indicati prima dell’inizio. 								\n				\n				\n					\n						\n				\n					 È possibile organizzare un corso solo per la mia azienda? Sono previsti degli sconti? \n							\n			\n			\n		\n\n						\n				\n					\n				\n				\n									Sì\, è possibile organizzare edizioni dedicate per gruppi aziendali scontate dal prezzo di listino.
URL:https://www.tecnocarrelli.com/corso/corso-lavori-in-quota-26-05-26/
LOCATION:Sede Tecnocarrelli\, Via del Commercio\, 6/8\, Pozzo d'Adda\, 20060\, Italy
CATEGORIES:Lavori in quota
ATTACH;FMTTYPE=image/jpeg:https://www.tecnocarrelli.com/wp-content/uploads/2026/01/two-workers-on-a-cherry-picker-with-safety-equipme-2026-01-08-02-37-34-utc-1.jpg
ORGANIZER;CN="Tecnocarrelli Srl":MAILTO:tecnocarrelli@tecnocarrelli.com
END:VEVENT
BEGIN:VEVENT
DTSTART;TZID=Europe/Rome:20260618T133000
DTEND;TZID=Europe/Rome:20260618T173000
DTSTAMP:20260425T165147
CREATED:20260121T160853Z
LAST-MODIFIED:20260123T075633Z
UID:21031-1781789400-1781803800@www.tecnocarrelli.com
SUMMARY:Corso Lavori in Quota – 18.06.26
DESCRIPTION:Corso di formazione per addetti a lavori in quota				\n				\n				\n				\n									La formazione per i lavori in quota è obbligatoria per legge per tutti i lavoratori che operano ad altezze superiori a quelle consentite senza adeguate protezioni. Il corso è finalizzato a fornire le conoscenze teoriche e pratiche necessarie per svolgere le attività in quota in condizioni di massima sicurezza\, prevenire il rischio di caduta dall’alto e utilizzare correttamente i dispositivi di protezione individuale e le attrezzature previste\, nel rispetto delle normative vigenti in materia di salute e sicurezza sul lavoro. Al termine del percorso formativo\, previo superamento delle prove previste\, viene rilasciato un attestato di formazione valido su tutto il territorio nazionale. 								\n				\n				\n				\n					Dettagli del corso				\n				\n				\n				\n									14 dicembre 2026 – Modulo teorico e praticodalle 13\,30 alle 17\,30 Normativa sulla sicurezza nei lavori in quota (D.Lgs. 81/08)Obblighi e responsabilità di datore di lavoro e lavoratoriDefinizione di lavoro in quota e valutazione del rischio di cadutaTipologie di lavori in quota e principali scenari operativiSistemi di protezione collettiva (parapetti\, reti\, ponteggi)Sistemi di protezione individuale contro le cadute dall’altoDPI di III categoria: imbracature\, cordini\, assorbitori\, connettoriLinee vita e punti di ancoraggioScale portatili: scelta\, utilizzo corretto e limitiAccesso\, posizionamento e lavoro in sicurezzaControlli preliminari e verifica dei DPIProcedure operative corretteRischi specifici: caduta dall’alto\, urti\, sospensione inerteGestione delle emergenze e primo interventoProve pratiche di utilizzo dei DPI e simulazioni operative								\n				\n				\n				\n							\n			\n		\n						\n				\n				\n				\n					Hai qualche domanda?				\n				\n				\n				\n							\n						\n				\n					 Il corso è obbligatorio? \n							\n			\n			\n		\n\n						\n				\n				\n				\n									Sì\, la formazione e l’abilitazione sono obbligatorie per l’uso del carrello elevatore. 								\n				\n				\n					\n						\n				\n					 Dove si svolgono i corsi? \n							\n			\n			\n		\n\n						\n				\n				\n				\n									La teoria e la pratica si svolgono presso la nuova sede di Tecnocarrelli in via del Commercio 6/8\, Pozzo d’Adda (MI). 								\n				\n				\n					\n						\n				\n					 Cosa devo portare il giorno del corso? \n							\n			\n			\n		\n\n						\n				\n				\n				\n									Documento di identità e\, per la parte pratica\, abbigliamento idoneo e DPI indicati prima dell’inizio. 								\n				\n				\n					\n						\n				\n					 È possibile organizzare un corso solo per la mia azienda? Sono previsti degli sconti? \n							\n			\n			\n		\n\n						\n				\n					\n				\n				\n									Sì\, è possibile organizzare edizioni dedicate per gruppi aziendali scontate dal prezzo di listino.
URL:https://www.tecnocarrelli.com/corso/corso-lavori-in-quota-18-06-26/
LOCATION:Sede Tecnocarrelli\, Via del Commercio\, 6/8\, Pozzo d'Adda\, 20060\, Italy
CATEGORIES:Lavori in quota
ATTACH;FMTTYPE=image/jpeg:https://www.tecnocarrelli.com/wp-content/uploads/2026/01/two-workers-on-a-cherry-picker-with-safety-equipme-2026-01-08-02-37-34-utc-1.jpg
ORGANIZER;CN="Tecnocarrelli Srl":MAILTO:tecnocarrelli@tecnocarrelli.com
END:VEVENT
BEGIN:VEVENT
DTSTART;TZID=Europe/Rome:20260716T133000
DTEND;TZID=Europe/Rome:20260716T173000
DTSTAMP:20260425T165147
CREATED:20260121T161132Z
LAST-MODIFIED:20260123T075631Z
UID:21039-1784208600-1784223000@www.tecnocarrelli.com
SUMMARY:Corso Lavori in Quota – 16.07.26
DESCRIPTION:Corso di formazione per addetti a lavori in quota				\n				\n				\n				\n									La formazione per i lavori in quota è obbligatoria per legge per tutti i lavoratori che operano ad altezze superiori a quelle consentite senza adeguate protezioni. Il corso è finalizzato a fornire le conoscenze teoriche e pratiche necessarie per svolgere le attività in quota in condizioni di massima sicurezza\, prevenire il rischio di caduta dall’alto e utilizzare correttamente i dispositivi di protezione individuale e le attrezzature previste\, nel rispetto delle normative vigenti in materia di salute e sicurezza sul lavoro. Al termine del percorso formativo\, previo superamento delle prove previste\, viene rilasciato un attestato di formazione valido su tutto il territorio nazionale. 								\n				\n				\n				\n					Dettagli del corso				\n				\n				\n				\n									14 dicembre 2026 – Modulo teorico e praticodalle 13\,30 alle 17\,30 Normativa sulla sicurezza nei lavori in quota (D.Lgs. 81/08)Obblighi e responsabilità di datore di lavoro e lavoratoriDefinizione di lavoro in quota e valutazione del rischio di cadutaTipologie di lavori in quota e principali scenari operativiSistemi di protezione collettiva (parapetti\, reti\, ponteggi)Sistemi di protezione individuale contro le cadute dall’altoDPI di III categoria: imbracature\, cordini\, assorbitori\, connettoriLinee vita e punti di ancoraggioScale portatili: scelta\, utilizzo corretto e limitiAccesso\, posizionamento e lavoro in sicurezzaControlli preliminari e verifica dei DPIProcedure operative corretteRischi specifici: caduta dall’alto\, urti\, sospensione inerteGestione delle emergenze e primo interventoProve pratiche di utilizzo dei DPI e simulazioni operative								\n				\n				\n				\n							\n			\n		\n						\n				\n				\n				\n					Hai qualche domanda?				\n				\n				\n				\n							\n						\n				\n					 Il corso è obbligatorio? \n							\n			\n			\n		\n\n						\n				\n				\n				\n									Sì\, la formazione e l’abilitazione sono obbligatorie per l’uso del carrello elevatore. 								\n				\n				\n					\n						\n				\n					 Dove si svolgono i corsi? \n							\n			\n			\n		\n\n						\n				\n				\n				\n									La teoria e la pratica si svolgono presso la nuova sede di Tecnocarrelli in via del Commercio 6/8\, Pozzo d’Adda (MI). 								\n				\n				\n					\n						\n				\n					 Cosa devo portare il giorno del corso? \n							\n			\n			\n		\n\n						\n				\n				\n				\n									Documento di identità e\, per la parte pratica\, abbigliamento idoneo e DPI indicati prima dell’inizio. 								\n				\n				\n					\n						\n				\n					 È possibile organizzare un corso solo per la mia azienda? Sono previsti degli sconti? \n							\n			\n			\n		\n\n						\n				\n					\n				\n				\n									Sì\, è possibile organizzare edizioni dedicate per gruppi aziendali scontate dal prezzo di listino.
URL:https://www.tecnocarrelli.com/corso/corso-lavori-in-quota-16-07-26/
LOCATION:Sede Tecnocarrelli\, Via del Commercio\, 6/8\, Pozzo d'Adda\, 20060\, Italy
CATEGORIES:Lavori in quota
ATTACH;FMTTYPE=image/jpeg:https://www.tecnocarrelli.com/wp-content/uploads/2026/01/two-workers-on-a-cherry-picker-with-safety-equipme-2026-01-08-02-37-34-utc-1.jpg
ORGANIZER;CN="Tecnocarrelli Srl":MAILTO:tecnocarrelli@tecnocarrelli.com
END:VEVENT
BEGIN:VEVENT
DTSTART;TZID=Europe/Rome:20260915T133000
DTEND;TZID=Europe/Rome:20260915T173000
DTSTAMP:20260425T165147
CREATED:20260121T161433Z
LAST-MODIFIED:20260123T075636Z
UID:21044-1789479000-1789493400@www.tecnocarrelli.com
SUMMARY:Corso Lavori in Quota – 15.09.26
DESCRIPTION:Corso di formazione per addetti a lavori in quota				\n				\n				\n				\n									La formazione per i lavori in quota è obbligatoria per legge per tutti i lavoratori che operano ad altezze superiori a quelle consentite senza adeguate protezioni. Il corso è finalizzato a fornire le conoscenze teoriche e pratiche necessarie per svolgere le attività in quota in condizioni di massima sicurezza\, prevenire il rischio di caduta dall’alto e utilizzare correttamente i dispositivi di protezione individuale e le attrezzature previste\, nel rispetto delle normative vigenti in materia di salute e sicurezza sul lavoro. Al termine del percorso formativo\, previo superamento delle prove previste\, viene rilasciato un attestato di formazione valido su tutto il territorio nazionale. 								\n				\n				\n				\n					Dettagli del corso				\n				\n				\n				\n									14 dicembre 2026 – Modulo teorico e praticodalle 13\,30 alle 17\,30 Normativa sulla sicurezza nei lavori in quota (D.Lgs. 81/08)Obblighi e responsabilità di datore di lavoro e lavoratoriDefinizione di lavoro in quota e valutazione del rischio di cadutaTipologie di lavori in quota e principali scenari operativiSistemi di protezione collettiva (parapetti\, reti\, ponteggi)Sistemi di protezione individuale contro le cadute dall’altoDPI di III categoria: imbracature\, cordini\, assorbitori\, connettoriLinee vita e punti di ancoraggioScale portatili: scelta\, utilizzo corretto e limitiAccesso\, posizionamento e lavoro in sicurezzaControlli preliminari e verifica dei DPIProcedure operative corretteRischi specifici: caduta dall’alto\, urti\, sospensione inerteGestione delle emergenze e primo interventoProve pratiche di utilizzo dei DPI e simulazioni operative								\n				\n				\n				\n							\n			\n		\n						\n				\n				\n				\n					Hai qualche domanda?				\n				\n				\n				\n							\n						\n				\n					 Il corso è obbligatorio? \n							\n			\n			\n		\n\n						\n				\n				\n				\n									Sì\, la formazione e l’abilitazione sono obbligatorie per l’uso del carrello elevatore. 								\n				\n				\n					\n						\n				\n					 Dove si svolgono i corsi? \n							\n			\n			\n		\n\n						\n				\n				\n				\n									La teoria e la pratica si svolgono presso la nuova sede di Tecnocarrelli in via del Commercio 6/8\, Pozzo d’Adda (MI). 								\n				\n				\n					\n						\n				\n					 Cosa devo portare il giorno del corso? \n							\n			\n			\n		\n\n						\n				\n				\n				\n									Documento di identità e\, per la parte pratica\, abbigliamento idoneo e DPI indicati prima dell’inizio. 								\n				\n				\n					\n						\n				\n					 È possibile organizzare un corso solo per la mia azienda? Sono previsti degli sconti? \n							\n			\n			\n		\n\n						\n				\n					\n				\n				\n									Sì\, è possibile organizzare edizioni dedicate per gruppi aziendali scontate dal prezzo di listino.
URL:https://www.tecnocarrelli.com/corso/corso-lavori-in-quota-15-09-26/
LOCATION:Sede Tecnocarrelli\, Via del Commercio\, 6/8\, Pozzo d'Adda\, 20060\, Italy
CATEGORIES:Lavori in quota
ATTACH;FMTTYPE=image/jpeg:https://www.tecnocarrelli.com/wp-content/uploads/2026/01/two-workers-on-a-cherry-picker-with-safety-equipme-2026-01-08-02-37-34-utc-1.jpg
ORGANIZER;CN="Tecnocarrelli Srl":MAILTO:tecnocarrelli@tecnocarrelli.com
END:VEVENT
BEGIN:VEVENT
DTSTART;TZID=Europe/Rome:20261013T133000
DTEND;TZID=Europe/Rome:20261013T173000
DTSTAMP:20260425T165147
CREATED:20260121T161624Z
LAST-MODIFIED:20260123T075455Z
UID:21046-1791898200-1791912600@www.tecnocarrelli.com
SUMMARY:Corso Lavori in Quota – 13.10.26
DESCRIPTION:Corso di formazione per addetti a lavori in quota				\n				\n				\n				\n									La formazione per i lavori in quota è obbligatoria per legge per tutti i lavoratori che operano ad altezze superiori a quelle consentite senza adeguate protezioni. Il corso è finalizzato a fornire le conoscenze teoriche e pratiche necessarie per svolgere le attività in quota in condizioni di massima sicurezza\, prevenire il rischio di caduta dall’alto e utilizzare correttamente i dispositivi di protezione individuale e le attrezzature previste\, nel rispetto delle normative vigenti in materia di salute e sicurezza sul lavoro. Al termine del percorso formativo\, previo superamento delle prove previste\, viene rilasciato un attestato di formazione valido su tutto il territorio nazionale. 								\n				\n				\n				\n					Dettagli del corso				\n				\n				\n				\n									14 dicembre 2026 – Modulo teorico e praticodalle 13\,30 alle 17\,30 Normativa sulla sicurezza nei lavori in quota (D.Lgs. 81/08)Obblighi e responsabilità di datore di lavoro e lavoratoriDefinizione di lavoro in quota e valutazione del rischio di cadutaTipologie di lavori in quota e principali scenari operativiSistemi di protezione collettiva (parapetti\, reti\, ponteggi)Sistemi di protezione individuale contro le cadute dall’altoDPI di III categoria: imbracature\, cordini\, assorbitori\, connettoriLinee vita e punti di ancoraggioScale portatili: scelta\, utilizzo corretto e limitiAccesso\, posizionamento e lavoro in sicurezzaControlli preliminari e verifica dei DPIProcedure operative corretteRischi specifici: caduta dall’alto\, urti\, sospensione inerteGestione delle emergenze e primo interventoProve pratiche di utilizzo dei DPI e simulazioni operative								\n				\n				\n				\n							\n			\n		\n						\n				\n				\n				\n					Hai qualche domanda?				\n				\n				\n				\n							\n						\n				\n					 Il corso è obbligatorio? \n							\n			\n			\n		\n\n						\n				\n				\n				\n									Sì\, la formazione e l’abilitazione sono obbligatorie per l’uso del carrello elevatore. 								\n				\n				\n					\n						\n				\n					 Dove si svolgono i corsi? \n							\n			\n			\n		\n\n						\n				\n				\n				\n									La teoria e la pratica si svolgono presso la nuova sede di Tecnocarrelli in via del Commercio 6/8\, Pozzo d’Adda (MI). 								\n				\n				\n					\n						\n				\n					 Cosa devo portare il giorno del corso? \n							\n			\n			\n		\n\n						\n				\n				\n				\n									Documento di identità e\, per la parte pratica\, abbigliamento idoneo e DPI indicati prima dell’inizio. 								\n				\n				\n					\n						\n				\n					 È possibile organizzare un corso solo per la mia azienda? Sono previsti degli sconti? \n							\n			\n			\n		\n\n						\n				\n					\n				\n				\n									Sì\, è possibile organizzare edizioni dedicate per gruppi aziendali scontate dal prezzo di listino.
URL:https://www.tecnocarrelli.com/corso/corso-lavori-in-quota-13-10-26/
LOCATION:Sede Tecnocarrelli\, Via del Commercio\, 6/8\, Pozzo d'Adda\, 20060\, Italy
CATEGORIES:Lavori in quota
ATTACH;FMTTYPE=image/jpeg:https://www.tecnocarrelli.com/wp-content/uploads/2026/01/two-workers-on-a-cherry-picker-with-safety-equipme-2026-01-08-02-37-34-utc-1.jpg
ORGANIZER;CN="Tecnocarrelli Srl":MAILTO:tecnocarrelli@tecnocarrelli.com
END:VEVENT
BEGIN:VEVENT
DTSTART;TZID=Europe/Rome:20261116T133000
DTEND;TZID=Europe/Rome:20261116T173000
DTSTAMP:20260425T165147
CREATED:20260121T161837Z
LAST-MODIFIED:20260123T075507Z
UID:21051-1794835800-1794850200@www.tecnocarrelli.com
SUMMARY:Corso Lavori in Quota – 16.11.26
DESCRIPTION:Corso di formazione per addetti a lavori in quota				\n				\n				\n				\n									La formazione per i lavori in quota è obbligatoria per legge per tutti i lavoratori che operano ad altezze superiori a quelle consentite senza adeguate protezioni. Il corso è finalizzato a fornire le conoscenze teoriche e pratiche necessarie per svolgere le attività in quota in condizioni di massima sicurezza\, prevenire il rischio di caduta dall’alto e utilizzare correttamente i dispositivi di protezione individuale e le attrezzature previste\, nel rispetto delle normative vigenti in materia di salute e sicurezza sul lavoro. Al termine del percorso formativo\, previo superamento delle prove previste\, viene rilasciato un attestato di formazione valido su tutto il territorio nazionale. 								\n				\n				\n				\n					Dettagli del corso				\n				\n				\n				\n									14 dicembre 2026 – Modulo teorico e praticodalle 13\,30 alle 17\,30 Normativa sulla sicurezza nei lavori in quota (D.Lgs. 81/08)Obblighi e responsabilità di datore di lavoro e lavoratoriDefinizione di lavoro in quota e valutazione del rischio di cadutaTipologie di lavori in quota e principali scenari operativiSistemi di protezione collettiva (parapetti\, reti\, ponteggi)Sistemi di protezione individuale contro le cadute dall’altoDPI di III categoria: imbracature\, cordini\, assorbitori\, connettoriLinee vita e punti di ancoraggioScale portatili: scelta\, utilizzo corretto e limitiAccesso\, posizionamento e lavoro in sicurezzaControlli preliminari e verifica dei DPIProcedure operative corretteRischi specifici: caduta dall’alto\, urti\, sospensione inerteGestione delle emergenze e primo interventoProve pratiche di utilizzo dei DPI e simulazioni operative								\n				\n				\n				\n							\n			\n		\n						\n				\n				\n				\n					Hai qualche domanda?				\n				\n				\n				\n							\n						\n				\n					 Il corso è obbligatorio? \n							\n			\n			\n		\n\n						\n				\n				\n				\n									Sì\, la formazione e l’abilitazione sono obbligatorie per l’uso del carrello elevatore. 								\n				\n				\n					\n						\n				\n					 Dove si svolgono i corsi? \n							\n			\n			\n		\n\n						\n				\n				\n				\n									La teoria e la pratica si svolgono presso la nuova sede di Tecnocarrelli in via del Commercio 6/8\, Pozzo d’Adda (MI). 								\n				\n				\n					\n						\n				\n					 Cosa devo portare il giorno del corso? \n							\n			\n			\n		\n\n						\n				\n				\n				\n									Documento di identità e\, per la parte pratica\, abbigliamento idoneo e DPI indicati prima dell’inizio. 								\n				\n				\n					\n						\n				\n					 È possibile organizzare un corso solo per la mia azienda? Sono previsti degli sconti? \n							\n			\n			\n		\n\n						\n				\n					\n				\n				\n									Sì\, è possibile organizzare edizioni dedicate per gruppi aziendali scontate dal prezzo di listino.
URL:https://www.tecnocarrelli.com/corso/corso-lavori-in-quota-16-11-26/
LOCATION:Sede Tecnocarrelli\, Via del Commercio\, 6/8\, Pozzo d'Adda\, 20060\, Italy
CATEGORIES:Lavori in quota
ATTACH;FMTTYPE=image/jpeg:https://www.tecnocarrelli.com/wp-content/uploads/2026/01/two-workers-on-a-cherry-picker-with-safety-equipme-2026-01-08-02-37-34-utc-1.jpg
ORGANIZER;CN="Tecnocarrelli Srl":MAILTO:tecnocarrelli@tecnocarrelli.com
END:VEVENT
BEGIN:VEVENT
DTSTART;TZID=Europe/Rome:20261214T133000
DTEND;TZID=Europe/Rome:20261214T173000
DTSTAMP:20260425T165147
CREATED:20260121T162048Z
LAST-MODIFIED:20260123T075516Z
UID:21056-1797255000-1797269400@www.tecnocarrelli.com
SUMMARY:Corso Lavori in Quota – 14.12.26
DESCRIPTION:Corso di formazione per addetti a lavori in quota				\n				\n				\n				\n									La formazione per i lavori in quota è obbligatoria per legge per tutti i lavoratori che operano ad altezze superiori a quelle consentite senza adeguate protezioni. Il corso è finalizzato a fornire le conoscenze teoriche e pratiche necessarie per svolgere le attività in quota in condizioni di massima sicurezza\, prevenire il rischio di caduta dall’alto e utilizzare correttamente i dispositivi di protezione individuale e le attrezzature previste\, nel rispetto delle normative vigenti in materia di salute e sicurezza sul lavoro. Al termine del percorso formativo\, previo superamento delle prove previste\, viene rilasciato un attestato di formazione valido su tutto il territorio nazionale. 								\n				\n				\n				\n					Dettagli del corso				\n				\n				\n				\n									14 dicembre 2026 – Modulo teorico e praticodalle 13\,30 alle 17\,30 Normativa sulla sicurezza nei lavori in quota (D.Lgs. 81/08)Obblighi e responsabilità di datore di lavoro e lavoratoriDefinizione di lavoro in quota e valutazione del rischio di cadutaTipologie di lavori in quota e principali scenari operativiSistemi di protezione collettiva (parapetti\, reti\, ponteggi)Sistemi di protezione individuale contro le cadute dall’altoDPI di III categoria: imbracature\, cordini\, assorbitori\, connettoriLinee vita e punti di ancoraggioScale portatili: scelta\, utilizzo corretto e limitiAccesso\, posizionamento e lavoro in sicurezzaControlli preliminari e verifica dei DPIProcedure operative corretteRischi specifici: caduta dall’alto\, urti\, sospensione inerteGestione delle emergenze e primo interventoProve pratiche di utilizzo dei DPI e simulazioni operative								\n				\n				\n				\n							\n			\n		\n						\n				\n				\n				\n					Hai qualche domanda?				\n				\n				\n				\n							\n						\n				\n					 Il corso è obbligatorio? \n							\n			\n			\n		\n\n						\n				\n				\n				\n									Sì\, la formazione e l’abilitazione sono obbligatorie per l’uso del carrello elevatore. 								\n				\n				\n					\n						\n				\n					 Dove si svolgono i corsi? \n							\n			\n			\n		\n\n						\n				\n				\n				\n									La teoria e la pratica si svolgono presso la nuova sede di Tecnocarrelli in via del Commercio 6/8\, Pozzo d’Adda (MI). 								\n				\n				\n					\n						\n				\n					 Cosa devo portare il giorno del corso? \n							\n			\n			\n		\n\n						\n				\n				\n				\n									Documento di identità e\, per la parte pratica\, abbigliamento idoneo e DPI indicati prima dell’inizio. 								\n				\n				\n					\n						\n				\n					 È possibile organizzare un corso solo per la mia azienda? Sono previsti degli sconti? \n							\n			\n			\n		\n\n						\n				\n					\n				\n				\n									Sì\, è possibile organizzare edizioni dedicate per gruppi aziendali scontate dal prezzo di listino.
URL:https://www.tecnocarrelli.com/corso/corso-lavori-in-quota-14-12-26/
LOCATION:Sede Tecnocarrelli\, Via del Commercio\, 6/8\, Pozzo d'Adda\, 20060\, Italy
CATEGORIES:Lavori in quota
ATTACH;FMTTYPE=image/jpeg:https://www.tecnocarrelli.com/wp-content/uploads/2026/01/two-workers-on-a-cherry-picker-with-safety-equipme-2026-01-08-02-37-34-utc-1.jpg
ORGANIZER;CN="Tecnocarrelli Srl":MAILTO:tecnocarrelli@tecnocarrelli.com
END:VEVENT
END:VCALENDAR